BEGIN:VCALENDAR
VERSION:2.0
PRODID:-//Fem Poble - En Comú Podem - ECPv6.1.3//NONSGML v1.0//EN
CALSCALE:GREGORIAN
METHOD:PUBLISH
X-WR-CALNAME:Fem Poble - En Comú Podem
X-ORIGINAL-URL:https://encomu.fempoble.info
X-WR-CALDESC:Eventos para Fem Poble - En Comú Podem
REFRESH-INTERVAL;VALUE=DURATION:PT1H
X-Robots-Tag:noindex
X-PUBLISHED-TTL:PT1H
BEGIN:VTIMEZONE
TZID:UTC
BEGIN:STANDARD
TZOFFSETFROM:+0000
TZOFFSETTO:+0000
TZNAME:UTC
DTSTART:20190101T000000
END:STANDARD
END:VTIMEZONE
BEGIN:VEVENT
DTSTART;TZID=UTC:20190304T180000
DTEND;TZID=UTC:20190304T203000
DTSTAMP:20260419T130646
CREATED:20190217T121403Z
LAST-MODIFIED:20190217T121403Z
UID:437-1551722400-1551731400@encomu.fempoble.info
SUMMARY:PROGRAMA ELECTORAL: Habitatge i Urbanisme
DESCRIPTION:Propostes per l’elaboració del programa electoral en l’àmbit de l’habitatge i l’urbanisme. A l’Escorxador de Ribes\, a partir de les 18.00h.
URL:https://encomu.fempoble.info/event/programa-electoral-habitatge-i-urbanisme
LOCATION:L’Escorxador\, Ribes.\, Carrer de l'Escorxador\, Sant Pere de Ribes\, Barcelona\, 08810
CATEGORIES:Programa electoral
END:VEVENT
BEGIN:VEVENT
DTSTART;TZID=UTC:20190311T180000
DTEND;TZID=UTC:20190311T203000
DTSTAMP:20260419T130646
CREATED:20190217T121636Z
LAST-MODIFIED:20190217T121646Z
UID:439-1552327200-1552336200@encomu.fempoble.info
SUMMARY:PROGRAMA ELECTORAL: Sanitat\, Serveis Socials i Migració
DESCRIPTION:Propostes per l’elaboració del programa electoral en l’àmbit de la sanitat\, els serveis socials i la migració. A l’Ateneu de Les Roquetes\, a partir de les 18.00h.
URL:https://encomu.fempoble.info/event/programa-electoral-sanitat-serveis-socials-i-migracio
LOCATION:Ateneu de Les Roquetes\, Av. Catalunya nº1\, Sant Pere de Ribes\, Barcelona\, 08812\, España
CATEGORIES:Programa electoral
END:VEVENT
BEGIN:VEVENT
DTSTART;TZID=UTC:20190318T180000
DTEND;TZID=UTC:20190318T203000
DTSTAMP:20260419T130646
CREATED:20190217T122048Z
LAST-MODIFIED:20190217T122048Z
UID:441-1552932000-1552941000@encomu.fempoble.info
SUMMARY:PROGRAMA ELECTORAL: Radicalitat democràtica\, Transparència\, Governança
DESCRIPTION:Propostes per l’elaboració del programa electoral en l’àmbit de la radicalitat democràtica\, la transparència i la governança. A l’Escorxador de Ribes\, a partir de les 18.00h.
URL:https://encomu.fempoble.info/event/programa-electoral-radicalitat-democratica-transparencia-governanca
LOCATION:L’Escorxador\, Ribes.\, Carrer de l'Escorxador\, Sant Pere de Ribes\, Barcelona\, 08810
CATEGORIES:Programa electoral
END:VEVENT
BEGIN:VEVENT
DTSTART;TZID=UTC:20190330T060000
DTEND;TZID=UTC:20190330T200000
DTSTAMP:20260419T130646
CREATED:20190217T130004Z
LAST-MODIFIED:20190217T130004Z
UID:445-1553925600-1553976000@encomu.fempoble.info
SUMMARY:ASSEMBLEA DECISÒRIA
DESCRIPTION:Decidirem el programa final a la sala Josep Lluís Palacios\, a Ribes a les 18h.
URL:https://encomu.fempoble.info/event/assemblea-decisoria
LOCATION:Sala Josep Lluís Palacios\, Carrer Mossèn Andreu Malga nº2\, Sant Pere de Ribes\, Barcelona\, 08810\, España
CATEGORIES:Programa electoral
END:VEVENT
END:VCALENDAR